BEGIN:VCALENDAR
VERSION:2.0
PRODID:-//OpenAI//Elkargi Adegi Program//ES
CALSCALE:GREGORIAN
METHOD:PUBLISH
X-WR-CALNAME:Gobernanza, información financiera y crecimiento
BEGIN:VTIMEZONE
TZID:Europe/Madrid
X-LIC-LOCATION:Europe/Madrid
BEGIN:DAYLIGHT
TZOFFSETFROM:+0100
TZOFFSETTO:+0200
TZNAME:CEST
DTSTART:19700329T020000
RRULE:FREQ=YEARLY;BYMONTH=3;BYDAY=-1SU
END:DAYLIGHT
BEGIN:STANDARD
TZOFFSETFROM:+0200
TZOFFSETTO:+0100
TZNAME:CET
DTSTART:19701025T030000
RRULE:FREQ=YEARLY;BYMONTH=10;BYDAY=-1SU
END:STANDARD
END:VTIMEZONE

BEGIN:VEVENT
UID:elkargi-adegi-20260513-1@openai.local
DTSTAMP:20260409T120000Z
DTSTART;TZID=Europe/Madrid:20260513T093000
DTEND;TZID=Europe/Madrid:20260513T102000
SUMMARY:Jornada 1 · Gobernanza estratégica
LOCATION:Adegi
DESCRIPTION:Programa conjunto Elkargi + Adegi. Café de bienvenida incluido. Sesión 1 del recorrido completo: gobernanza estratégica.
BEGIN:VALARM
TRIGGER:-P1D
ACTION:DISPLAY
DESCRIPTION:Recordatorio Jornada 1 · Gobernanza estratégica
END:VALARM
END:VEVENT

BEGIN:VEVENT
UID:elkargi-adegi-20260526-2@openai.local
DTSTAMP:20260409T120000Z
DTSTART;TZID=Europe/Madrid:20260526T093000
DTEND;TZID=Europe/Madrid:20260526T102000
SUMMARY:Jornada 2 · Información financiera para decidir
LOCATION:Elkargi
DESCRIPTION:Programa conjunto Elkargi + Adegi. Café de bienvenida incluido. Sesión 2 del recorrido completo: información financiera para decidir.
BEGIN:VALARM
TRIGGER:-P1D
ACTION:DISPLAY
DESCRIPTION:Recordatorio Jornada 2 · Información financiera para decidir
END:VALARM
END:VEVENT

BEGIN:VEVENT
UID:elkargi-adegi-20260609-3@openai.local
DTSTAMP:20260409T120000Z
DTSTART;TZID=Europe/Madrid:20260609T093000
DTEND;TZID=Europe/Madrid:20260609T102000
SUMMARY:Jornada 3 · Crecimiento con criterio
LOCATION:Elkargi
DESCRIPTION:Programa conjunto Elkargi + Adegi. Café de bienvenida incluido. Sesión 3 del recorrido completo: crecimiento con criterio.
BEGIN:VALARM
TRIGGER:-P1D
ACTION:DISPLAY
DESCRIPTION:Recordatorio Jornada 3 · Crecimiento con criterio
END:VALARM
END:VEVENT

END:VCALENDAR
